BEGIN:VCALENDAR
VERSION:2.0
PRODID:-//46.105.255.160//NONSGML kigkonsult.se iCalcreator 2.26.9//
CALSCALE:GREGORIAN
METHOD:PUBLISH
X-WR-CALNAME:Gaart Belval ASBL
X-WR-CALDESC:Growing Community in Belval
X-FROM-URL:http://gaartbelval.lu
X-WR-TIMEZONE:Europe/Luxembourg
BEGIN:VTIMEZONE
TZID:Europe/Luxembourg
X-LIC-LOCATION:Europe/Luxembourg
BEGIN:STANDARD
DTSTART:20191027T030000
TZOFFSETFROM:+0200
TZOFFSETTO:+0100
RDATE:20201025T030000
TZNAME:CET
END:STANDARD
BEGIN:DAYLIGHT
DTSTART:20190331T020000
TZOFFSETFROM:+0100
TZOFFSETTO:+0200
RDATE:20200329T020000
TZNAME:CEST
END:DAYLIGHT
END:VTIMEZONE
BEGIN:VEVENT
UID:ai1ec-84@gaartbelval.lu
DTSTAMP:20190820T204145Z
CATEGORIES:
CONTACT:
DESCRIPTION:
DTSTART;VALUE=DATE:20180914
DTEND;VALUE=DATE:20180915
LOCATION:Gaart Belval
SEQUENCE:0
SUMMARY:Welcome Day
URL:http://gaartbelval.lu/event/welcome-day/
X-COST-TYPE:free
END:VEVENT
END:VCALENDAR
